BEGIN:VCALENDAR
VERSION:2.0
PRODID:-//Detroit Economic Club - ECPv6.14.2//NONSGML v1.0//EN
CALSCALE:GREGORIAN
METHOD:PUBLISH
X-ORIGINAL-URL:https://www.econclub.org
X-WR-CALDESC:Events for Detroit Economic Club
REFRESH-INTERVAL;VALUE=DURATION:PT1H
X-Robots-Tag:noindex
X-PUBLISHED-TTL:PT1H
BEGIN:VTIMEZONE
TZID:America/Detroit
BEGIN:DAYLIGHT
TZOFFSETFROM:-0500
TZOFFSETTO:-0400
TZNAME:EDT
DTSTART:20260308T070000
END:DAYLIGHT
BEGIN:STANDARD
TZOFFSETFROM:-0400
TZOFFSETTO:-0500
TZNAME:EST
DTSTART:20261101T060000
END:STANDARD
END:VTIMEZONE
BEGIN:VEVENT
DTSTART;TZID=America/Detroit:20260527T170000
DTEND;TZID=America/Detroit:20260527T213000
DTSTAMP:20260425T133216
CREATED:20260401T130626Z
LAST-MODIFIED:20260420T131509Z
UID:15028-1779901200-1779917400@www.econclub.org
SUMMARY:WAIT LIST | YL NETWORKING: Detroit Tigers vs Los Angeles Angels
DESCRIPTION:THE HONORABLE MIKE POMPEO\n				\n				\n				\n				\n									Secretary of State \nUnited States of America\n \n								\n				\n				\n		\n				\n				\n									On Monday\, June 18\, 2018\, in an exclusive member-only meeting\, U.S. Secretary of State Mike Pompeo addressed the Detroit Economic Club and discussed how economic diplomacy helps build relationships that create jobs and spur economic growth.\n \n“We build relationships that create jobs that sustain American businesses and spur economic growth here at home\,” said Pompeo. “We do our best to call out unfair economic behavior as well\, and break down barriers to market entry so that our companies have fair and reciprocal opportunities to sell into markets all around the world.” \n\n 								\n				\n				\n				\n							\n					\n						\n				\n				\n				\n									 								\n				\n				\n				\n							\n			\n		\n						\n				\n				\n				\n		\n		\n				\n				\n																														\n				\n				\n		\n				\n				\n					Gerry Anderson\n\n\n\n				\n				\n				\n				\n									Presiding Officer 								\n				\n				\n				\n									Chairman & CEO \nDTE Energy
URL:https://www.econclub.org/meeting/yl-networking-detroit-tigers-vs-los-angeles-angels/
LOCATION:Comerica Park\, 2100 Woodward Ave\, Detroit\, 48201\, United States
CATEGORIES:Young Leader
ATTACH;FMTTYPE=image/jpeg:https://www.econclub.org/wp-content/uploads/2026/03/Detroit-Tigers_featured.jpg
END:VEVENT
BEGIN:VEVENT
DTSTART;TZID=America/Detroit:20260603T080000
DTEND;TZID=America/Detroit:20260603T100000
DTSTAMP:20260425T133216
CREATED:20260317T132946Z
LAST-MODIFIED:20260406T141436Z
UID:14560-1780473600-1780480800@www.econclub.org
SUMMARY:WAIT LIST | Practical AI for Young Leaders
DESCRIPTION:THE HONORABLE MIKE POMPEO\n				\n				\n				\n				\n									Secretary of State \nUnited States of America\n \n								\n				\n				\n		\n				\n				\n									On Monday\, June 18\, 2018\, in an exclusive member-only meeting\, U.S. Secretary of State Mike Pompeo addressed the Detroit Economic Club and discussed how economic diplomacy helps build relationships that create jobs and spur economic growth.\n \n“We build relationships that create jobs that sustain American businesses and spur economic growth here at home\,” said Pompeo. “We do our best to call out unfair economic behavior as well\, and break down barriers to market entry so that our companies have fair and reciprocal opportunities to sell into markets all around the world.” \n\n 								\n				\n				\n				\n							\n					\n						\n				\n				\n				\n									 								\n				\n				\n				\n							\n			\n		\n						\n				\n				\n				\n		\n		\n				\n				\n																														\n				\n				\n		\n				\n				\n					Gerry Anderson\n\n\n\n				\n				\n				\n				\n									Presiding Officer 								\n				\n				\n				\n									Chairman & CEO \nDTE Energy
URL:https://www.econclub.org/meeting/practical-ai-for-young-leaders/
LOCATION:Lear Corporation World HQ\, 21557 Telegraph Rd\, Southfield\, MI\, 48033\, United States
CATEGORIES:Professional Development,Young Leader
ATTACH;FMTTYPE=image/jpeg:https://www.econclub.org/wp-content/uploads/2026/03/YL-AI_featured.jpg
END:VEVENT
BEGIN:VEVENT
DTSTART;TZID=America/Detroit:20260604T173000
DTEND;TZID=America/Detroit:20260604T200000
DTSTAMP:20260425T133216
CREATED:20260311T174302Z
LAST-MODIFIED:20260319T181218Z
UID:14765-1780594200-1780603200@www.econclub.org
SUMMARY:WAIT LIST | Gold Member Dinner with Mike Land
DESCRIPTION:THE HONORABLE MIKE POMPEO\n				\n				\n				\n				\n									Secretary of State \nUnited States of America\n \n								\n				\n				\n		\n				\n				\n									On Monday\, June 18\, 2018\, in an exclusive member-only meeting\, U.S. Secretary of State Mike Pompeo addressed the Detroit Economic Club and discussed how economic diplomacy helps build relationships that create jobs and spur economic growth.\n \n“We build relationships that create jobs that sustain American businesses and spur economic growth here at home\,” said Pompeo. “We do our best to call out unfair economic behavior as well\, and break down barriers to market entry so that our companies have fair and reciprocal opportunities to sell into markets all around the world.” \n\n 								\n				\n				\n				\n							\n					\n						\n				\n				\n				\n									 								\n				\n				\n				\n							\n			\n		\n						\n				\n				\n				\n		\n		\n				\n				\n																														\n				\n				\n		\n				\n				\n					Gerry Anderson\n\n\n\n				\n				\n				\n				\n									Presiding Officer 								\n				\n				\n				\n									Chairman & CEO \nDTE Energy
URL:https://www.econclub.org/meeting/gold-member-dinner-with-mike-land/
LOCATION:Huntington Bank Tower\, 2025 Woodward Ave\, Detroit\, MI\, 48226\, United States
CATEGORIES:Gold Members Only,Members Only
ATTACH;FMTTYPE=image/jpeg:https://www.econclub.org/wp-content/uploads/2026/03/Gold-Member-Mike-Land_featured.jpg
END:VEVENT
BEGIN:VEVENT
DTSTART;TZID=America/Detroit:20260608T110000
DTEND;TZID=America/Detroit:20260608T132000
DTSTAMP:20260425T133216
CREATED:20260316T133707Z
LAST-MODIFIED:20260316T134537Z
UID:14771-1780916400-1780924800@www.econclub.org
SUMMARY:DEC Presents: A Conversation with Senator Slotkin
DESCRIPTION:THE HONORABLE MIKE POMPEO\n				\n				\n				\n				\n									Secretary of State \nUnited States of America\n \n								\n				\n				\n		\n				\n				\n									On Monday\, June 18\, 2018\, in an exclusive member-only meeting\, U.S. Secretary of State Mike Pompeo addressed the Detroit Economic Club and discussed how economic diplomacy helps build relationships that create jobs and spur economic growth.\n \n“We build relationships that create jobs that sustain American businesses and spur economic growth here at home\,” said Pompeo. “We do our best to call out unfair economic behavior as well\, and break down barriers to market entry so that our companies have fair and reciprocal opportunities to sell into markets all around the world.” \n\n 								\n				\n				\n				\n							\n					\n						\n				\n				\n				\n									 								\n				\n				\n				\n							\n			\n		\n						\n				\n				\n				\n		\n		\n				\n				\n																														\n				\n				\n		\n				\n				\n					Gerry Anderson\n\n\n\n				\n				\n				\n				\n									Presiding Officer 								\n				\n				\n				\n									Chairman & CEO \nDTE Energy
URL:https://www.econclub.org/meeting/dec-presents-a-conversation-with-senator-slotkin/
LOCATION:MotorCity Casino Hotel\, 2901 Grand River Ave\, Detroit\, MI\, 48201\, United States
CATEGORIES:Meeting,Members Only
ATTACH;FMTTYPE=image/jpeg:https://www.econclub.org/wp-content/uploads/2026/03/Sen-Elissa-Slotkin_featured.jpg
END:VEVENT
BEGIN:VEVENT
DTSTART;TZID=America/Detroit:20260616T110000
DTEND;TZID=America/Detroit:20260616T132000
DTSTAMP:20260425T133216
CREATED:20260421T165552Z
LAST-MODIFIED:20260421T185347Z
UID:15158-1781607600-1781616000@www.econclub.org
SUMMARY:Economic Outlook: US Trends\, Inflation and the Policy Path Ahead
DESCRIPTION:THE HONORABLE MIKE POMPEO\n				\n				\n				\n				\n									Secretary of State \nUnited States of America\n \n								\n				\n				\n		\n				\n				\n									On Monday\, June 18\, 2018\, in an exclusive member-only meeting\, U.S. Secretary of State Mike Pompeo addressed the Detroit Economic Club and discussed how economic diplomacy helps build relationships that create jobs and spur economic growth.\n \n“We build relationships that create jobs that sustain American businesses and spur economic growth here at home\,” said Pompeo. “We do our best to call out unfair economic behavior as well\, and break down barriers to market entry so that our companies have fair and reciprocal opportunities to sell into markets all around the world.” \n\n 								\n				\n				\n				\n							\n					\n						\n				\n				\n				\n									 								\n				\n				\n				\n							\n			\n		\n						\n				\n				\n				\n		\n		\n				\n				\n																														\n				\n				\n		\n				\n				\n					Gerry Anderson\n\n\n\n				\n				\n				\n				\n									Presiding Officer 								\n				\n				\n				\n									Chairman & CEO \nDTE Energy
URL:https://www.econclub.org/meeting/economic-outlook-us-trends-inflation-and-the-policy-path-ahead/
LOCATION:MotorCity Casino Hotel\, 2901 Grand River Ave\, Detroit\, MI\, 48201\, United States
CATEGORIES:Meeting
ATTACH;FMTTYPE=image/jpeg:https://www.econclub.org/wp-content/uploads/2026/04/Diane-Swonk_featured.jpg
END:VEVENT
BEGIN:VEVENT
DTSTART;TZID=America/Detroit:20260722T180000
DTEND;TZID=America/Detroit:20260722T210000
DTSTAMP:20260425T133216
CREATED:20251121T182448Z
LAST-MODIFIED:20260422T195422Z
UID:13529-1784743200-1784754000@www.econclub.org
SUMMARY:2026 DEC Chair’s Dinner
DESCRIPTION:THE HONORABLE MIKE POMPEO\n				\n				\n				\n				\n									Secretary of State \nUnited States of America\n \n								\n				\n				\n		\n				\n				\n									On Monday\, June 18\, 2018\, in an exclusive member-only meeting\, U.S. Secretary of State Mike Pompeo addressed the Detroit Economic Club and discussed how economic diplomacy helps build relationships that create jobs and spur economic growth.\n \n“We build relationships that create jobs that sustain American businesses and spur economic growth here at home\,” said Pompeo. “We do our best to call out unfair economic behavior as well\, and break down barriers to market entry so that our companies have fair and reciprocal opportunities to sell into markets all around the world.” \n\n 								\n				\n				\n				\n							\n					\n						\n				\n				\n				\n									 								\n				\n				\n				\n							\n			\n		\n						\n				\n				\n				\n		\n		\n				\n				\n																														\n				\n				\n		\n				\n				\n					Gerry Anderson\n\n\n\n				\n				\n				\n				\n									Presiding Officer 								\n				\n				\n				\n									Chairman & CEO \nDTE Energy
URL:https://www.econclub.org/meeting/2026-dec-chairs-dinner/
LOCATION:Elevate at One Campus Martius\, 1 Campus Martius Floor 16\, Detroit\, MI\, 48226\, United States
CATEGORIES:Signature Event
ATTACH;FMTTYPE=image/jpeg:https://www.econclub.org/wp-content/uploads/2024/11/chairsdinner-featured.jpg
END:VEVENT
BEGIN:VEVENT
DTSTART;TZID=America/Detroit:20261008T080000
DTEND;TZID=America/Detroit:20261008T170000
DTSTAMP:20260425T133216
CREATED:20251121T180929Z
LAST-MODIFIED:20260410T174654Z
UID:13524-1791446400-1791478800@www.econclub.org
SUMMARY:SAVE THE DATE | 2026 Young Leader Conference
DESCRIPTION:THE HONORABLE MIKE POMPEO\n				\n				\n				\n				\n									Secretary of State \nUnited States of America\n \n								\n				\n				\n		\n				\n				\n									On Monday\, June 18\, 2018\, in an exclusive member-only meeting\, U.S. Secretary of State Mike Pompeo addressed the Detroit Economic Club and discussed how economic diplomacy helps build relationships that create jobs and spur economic growth.\n \n“We build relationships that create jobs that sustain American businesses and spur economic growth here at home\,” said Pompeo. “We do our best to call out unfair economic behavior as well\, and break down barriers to market entry so that our companies have fair and reciprocal opportunities to sell into markets all around the world.” \n\n 								\n				\n				\n				\n							\n					\n						\n				\n				\n				\n									 								\n				\n				\n				\n							\n			\n		\n						\n				\n				\n				\n		\n		\n				\n				\n																														\n				\n				\n		\n				\n				\n					Gerry Anderson\n\n\n\n				\n				\n				\n				\n									Presiding Officer 								\n				\n				\n				\n									Chairman & CEO \nDTE Energy
URL:https://www.econclub.org/meeting/2026-young-leader-conference/
LOCATION:MotorCity Casino Hotel\, 2901 Grand River Ave\, Detroit\, MI\, 48201\, United States
CATEGORIES:Signature Event,Young Leader
ATTACH;FMTTYPE=image/jpeg:https://www.econclub.org/wp-content/uploads/2024/11/YLC-featured.jpg
END:VEVENT
END:VCALENDAR