BEGIN:VCALENDAR
VERSION:2.0
PRODID:-//Detroit Economic Club - ECPv6.14.2//NONSGML v1.0//EN
CALSCALE:GREGORIAN
METHOD:PUBLISH
X-WR-CALNAME:Detroit Economic Club
X-ORIGINAL-URL:https://www.econclub.org
X-WR-CALDESC:Events for Detroit Economic Club
REFRESH-INTERVAL;VALUE=DURATION:PT1H
X-Robots-Tag:noindex
X-PUBLISHED-TTL:PT1H
BEGIN:VTIMEZONE
TZID:America/Detroit
BEGIN:DAYLIGHT
TZOFFSETFROM:-0500
TZOFFSETTO:-0400
TZNAME:EDT
DTSTART:20260308T070000
END:DAYLIGHT
BEGIN:STANDARD
TZOFFSETFROM:-0400
TZOFFSETTO:-0500
TZNAME:EST
DTSTART:20261101T060000
END:STANDARD
END:VTIMEZONE
BEGIN:VEVENT
DTSTART;TZID=America/Detroit:20260616T110000
DTEND;TZID=America/Detroit:20260616T132000
DTSTAMP:20260426T013800
CREATED:20260421T165552Z
LAST-MODIFIED:20260421T185347Z
UID:15158-1781607600-1781616000@www.econclub.org
SUMMARY:Economic Outlook: US Trends\, Inflation and the Policy Path Ahead
DESCRIPTION:MARC MORIAL\n				\n				\n				\n				\n									President & CEO \nNational Urban League \n								\n				\n				\n		\n				\n				\n									Marc Morial\, President and CEO of the National Urban League\, addressed the Detroit Economic Club on February 7\, 2019 and distinguished patriotism vs. nationalism. He explained nationalism creates first and second-class citizens based on ethnicity\, religion\, or national origin; while patriotism is about our values and understanding America’s imperfect history to work towards improving democracy and the American system. “What we want to be in the 21st century is 21st-century patriots\,” said Morial. “Those who place love on people and our nation above the idea that we need to distrust\, not tolerate and hate others.” Morial added\, “It’s a value proposition that is bigger than a political party and political ideology. It’s a value proposition which is embedded into the words of the Declaration of Independence and the Constitution. It’s a value proposition which is based on equal opportunity. The concept of justice. The concept of tolerance. The concepts that have always been the moral high ground in American life.” 								\n				\n				\n				\n							\n					\n						\n				\n				\n				\n									 								\n				\n				\n				\n							\n			\n		\n						\n				\n				\n				\n		\n		\n				\n				\n																														\n				\n				\n		\n				\n				\n					Rod Gillum\n\n\n\n				\n				\n				\n				\n									Presiding Officer 								\n				\n				\n				\n									Principal \nJackson Lewis PC
URL:https://www.econclub.org/meeting/economic-outlook-us-trends-inflation-and-the-policy-path-ahead/
LOCATION:MotorCity Casino Hotel\, 2901 Grand River Ave\, Detroit\, MI\, 48201\, United States
CATEGORIES:Meeting
ATTACH;FMTTYPE=image/jpeg:https://www.econclub.org/wp-content/uploads/2026/04/Diane-Swonk_featured.jpg
END:VEVENT
BEGIN:VEVENT
DTSTART;TZID=America/Detroit:20260722T180000
DTEND;TZID=America/Detroit:20260722T210000
DTSTAMP:20260426T013800
CREATED:20251121T182448Z
LAST-MODIFIED:20260422T195422Z
UID:13529-1784743200-1784754000@www.econclub.org
SUMMARY:2026 DEC Chair’s Dinner
DESCRIPTION:MARC MORIAL\n				\n				\n				\n				\n									President & CEO \nNational Urban League \n								\n				\n				\n		\n				\n				\n									Marc Morial\, President and CEO of the National Urban League\, addressed the Detroit Economic Club on February 7\, 2019 and distinguished patriotism vs. nationalism. He explained nationalism creates first and second-class citizens based on ethnicity\, religion\, or national origin; while patriotism is about our values and understanding America’s imperfect history to work towards improving democracy and the American system. “What we want to be in the 21st century is 21st-century patriots\,” said Morial. “Those who place love on people and our nation above the idea that we need to distrust\, not tolerate and hate others.” Morial added\, “It’s a value proposition that is bigger than a political party and political ideology. It’s a value proposition which is embedded into the words of the Declaration of Independence and the Constitution. It’s a value proposition which is based on equal opportunity. The concept of justice. The concept of tolerance. The concepts that have always been the moral high ground in American life.” 								\n				\n				\n				\n							\n					\n						\n				\n				\n				\n									 								\n				\n				\n				\n							\n			\n		\n						\n				\n				\n				\n		\n		\n				\n				\n																														\n				\n				\n		\n				\n				\n					Rod Gillum\n\n\n\n				\n				\n				\n				\n									Presiding Officer 								\n				\n				\n				\n									Principal \nJackson Lewis PC
URL:https://www.econclub.org/meeting/2026-dec-chairs-dinner/
LOCATION:Elevate at One Campus Martius\, 1 Campus Martius Floor 16\, Detroit\, MI\, 48226\, United States
CATEGORIES:Signature Event
ATTACH;FMTTYPE=image/jpeg:https://www.econclub.org/wp-content/uploads/2024/11/chairsdinner-featured.jpg
END:VEVENT
BEGIN:VEVENT
DTSTART;TZID=America/Detroit:20261008T080000
DTEND;TZID=America/Detroit:20261008T170000
DTSTAMP:20260426T013800
CREATED:20251121T180929Z
LAST-MODIFIED:20260410T174654Z
UID:13524-1791446400-1791478800@www.econclub.org
SUMMARY:SAVE THE DATE | 2026 Young Leader Conference
DESCRIPTION:MARC MORIAL\n				\n				\n				\n				\n									President & CEO \nNational Urban League \n								\n				\n				\n		\n				\n				\n									Marc Morial\, President and CEO of the National Urban League\, addressed the Detroit Economic Club on February 7\, 2019 and distinguished patriotism vs. nationalism. He explained nationalism creates first and second-class citizens based on ethnicity\, religion\, or national origin; while patriotism is about our values and understanding America’s imperfect history to work towards improving democracy and the American system. “What we want to be in the 21st century is 21st-century patriots\,” said Morial. “Those who place love on people and our nation above the idea that we need to distrust\, not tolerate and hate others.” Morial added\, “It’s a value proposition that is bigger than a political party and political ideology. It’s a value proposition which is embedded into the words of the Declaration of Independence and the Constitution. It’s a value proposition which is based on equal opportunity. The concept of justice. The concept of tolerance. The concepts that have always been the moral high ground in American life.” 								\n				\n				\n				\n							\n					\n						\n				\n				\n				\n									 								\n				\n				\n				\n							\n			\n		\n						\n				\n				\n				\n		\n		\n				\n				\n																														\n				\n				\n		\n				\n				\n					Rod Gillum\n\n\n\n				\n				\n				\n				\n									Presiding Officer 								\n				\n				\n				\n									Principal \nJackson Lewis PC
URL:https://www.econclub.org/meeting/2026-young-leader-conference/
LOCATION:MotorCity Casino Hotel\, 2901 Grand River Ave\, Detroit\, MI\, 48201\, United States
CATEGORIES:Signature Event,Young Leader
ATTACH;FMTTYPE=image/jpeg:https://www.econclub.org/wp-content/uploads/2024/11/YLC-featured.jpg
END:VEVENT
END:VCALENDAR