BEGIN:VCALENDAR
VERSION:2.0
PRODID:-//Detroit Economic Club - ECPv6.14.2//NONSGML v1.0//EN
CALSCALE:GREGORIAN
METHOD:PUBLISH
X-WR-CALNAME:Detroit Economic Club
X-ORIGINAL-URL:https://www.econclub.org
X-WR-CALDESC:Events for Detroit Economic Club
REFRESH-INTERVAL;VALUE=DURATION:PT1H
X-Robots-Tag:noindex
X-PUBLISHED-TTL:PT1H
BEGIN:VTIMEZONE
TZID:UTC
BEGIN:STANDARD
TZOFFSETFROM:+0000
TZOFFSETTO:+0000
TZNAME:UTC
DTSTART:20180101T000000
END:STANDARD
END:VTIMEZONE
BEGIN:VEVENT
DTSTART;TZID=UTC:20180613T080000
DTEND;TZID=UTC:20180613T170000
DTSTAMP:20260421T213721
CREATED:20240504T033417Z
LAST-MODIFIED:20240513T192928Z
UID:3300-1528876800-1528909200@www.econclub.org
SUMMARY:Global Security Means Local Problems: Security; Intelligence; Space; Cyber & Politics
DESCRIPTION:THE HONORABLE MIKE PENCE\n				\n				\n				\n				\n									Vice President \nUnited States of America \n								\n				\n				\n		\n				\n				\n									U.S. Vice President Mike Pence addressed the Detroit Economic Club in an exclusive members-only meeting yesterday. Pence reflected on his three years in office with President Donald Trump\, while sharing his hopes for the country’s future – and how new trade agreements and the potential passing of the United States-Mexico-Canada Agreement (USMCA) can play a key role. “With sound monetary policy\, we know we will support more jobs in this country\,” said Pence. “With the USMCA signed into law\, we will strengthen the economy of North America like never before and by standing strong on our trade and balances and structural issues with China\, we’ll protect American jobs and prosperity for generations to come.” 								\n				\n				\n				\n							\n					\n						\n				\n				\n				\n									 								\n				\n				\n				\n							\n			\n		\n						\n				\n				\n				\n		\n		\n				\n				\n																														\n				\n				\n		\n				\n				\n					Gerry Anderson\n\n\n\n				\n				\n				\n				\n									Presiding Officer 								\n				\n				\n				\n									Executive Chairman \nDTE Energy
URL:https://www.econclub.org/meeting/global-security-means-local-problems-security-intelligence-space-cyber-politics/
LOCATION:Ford Field\, 2000 Brush Street\, Detroit\, Michigan\, United States
CATEGORIES:2018
ATTACH;FMTTYPE=image/jpeg:https://www.econclub.org/wp-content/uploads/2024/05/JKX6671-scaled.jpg
END:VEVENT
BEGIN:VEVENT
DTSTART;TZID=UTC:20180607T113000
DTEND;TZID=UTC:20180607T170000
DTSTAMP:20260421T213721
CREATED:20240504T092232Z
LAST-MODIFIED:20240513T193021Z
UID:3340-1528371000-1528390800@www.econclub.org
SUMMARY:The Patient is Waiting. . . For a Dose of Disruption
DESCRIPTION:THE HONORABLE MIKE PENCE\n				\n				\n				\n				\n									Vice President \nUnited States of America \n								\n				\n				\n		\n				\n				\n									U.S. Vice President Mike Pence addressed the Detroit Economic Club in an exclusive members-only meeting yesterday. Pence reflected on his three years in office with President Donald Trump\, while sharing his hopes for the country’s future – and how new trade agreements and the potential passing of the United States-Mexico-Canada Agreement (USMCA) can play a key role. “With sound monetary policy\, we know we will support more jobs in this country\,” said Pence. “With the USMCA signed into law\, we will strengthen the economy of North America like never before and by standing strong on our trade and balances and structural issues with China\, we’ll protect American jobs and prosperity for generations to come.” 								\n				\n				\n				\n							\n					\n						\n				\n				\n				\n									 								\n				\n				\n				\n							\n			\n		\n						\n				\n				\n				\n		\n		\n				\n				\n																														\n				\n				\n		\n				\n				\n					Gerry Anderson\n\n\n\n				\n				\n				\n				\n									Presiding Officer 								\n				\n				\n				\n									Executive Chairman \nDTE Energy
URL:https://www.econclub.org/meeting/the-patient-is-waiting-for-a-dose-of-disruption/
LOCATION:Westin Book Cadillac\, 1114 Washington Blvd\, Detroit\, MI\, United States
CATEGORIES:2018
ATTACH;FMTTYPE=image/jpeg:https://www.econclub.org/wp-content/uploads/2024/05/JKX5204-scaled.jpg
END:VEVENT
BEGIN:VEVENT
DTSTART;TZID=UTC:20180604T113000
DTEND;TZID=UTC:20180604T170000
DTSTAMP:20260421T213721
CREATED:20240504T102429Z
LAST-MODIFIED:20240513T193136Z
UID:3426-1528111800-1528131600@www.econclub.org
SUMMARY:Ambassador Ron Dermer
DESCRIPTION:THE HONORABLE MIKE PENCE\n				\n				\n				\n				\n									Vice President \nUnited States of America \n								\n				\n				\n		\n				\n				\n									U.S. Vice President Mike Pence addressed the Detroit Economic Club in an exclusive members-only meeting yesterday. Pence reflected on his three years in office with President Donald Trump\, while sharing his hopes for the country’s future – and how new trade agreements and the potential passing of the United States-Mexico-Canada Agreement (USMCA) can play a key role. “With sound monetary policy\, we know we will support more jobs in this country\,” said Pence. “With the USMCA signed into law\, we will strengthen the economy of North America like never before and by standing strong on our trade and balances and structural issues with China\, we’ll protect American jobs and prosperity for generations to come.” 								\n				\n				\n				\n							\n					\n						\n				\n				\n				\n									 								\n				\n				\n				\n							\n			\n		\n						\n				\n				\n				\n		\n		\n				\n				\n																														\n				\n				\n		\n				\n				\n					Gerry Anderson\n\n\n\n				\n				\n				\n				\n									Presiding Officer 								\n				\n				\n				\n									Executive Chairman \nDTE Energy
URL:https://www.econclub.org/meeting/ambassador-ron-dermer/
LOCATION:MotorCity Casino Hotel\, 2901 Grand River Ave\, Detroit\, MI\, 48201\, United States
CATEGORIES:2018
ATTACH;FMTTYPE=image/jpeg:https://www.econclub.org/wp-content/uploads/2024/05/JKX4691-scaled.jpg
END:VEVENT
BEGIN:VEVENT
DTSTART;TZID=UTC:20180524T113000
DTEND;TZID=UTC:20180524T170000
DTSTAMP:20260421T213721
CREATED:20240504T094657Z
LAST-MODIFIED:20240513T193324Z
UID:3385-1527161400-1527181200@www.econclub.org
SUMMARY:A Conversation on the U.S. Economy and the Retirement Challenge with Tony James
DESCRIPTION:THE HONORABLE MIKE PENCE\n				\n				\n				\n				\n									Vice President \nUnited States of America \n								\n				\n				\n		\n				\n				\n									U.S. Vice President Mike Pence addressed the Detroit Economic Club in an exclusive members-only meeting yesterday. Pence reflected on his three years in office with President Donald Trump\, while sharing his hopes for the country’s future – and how new trade agreements and the potential passing of the United States-Mexico-Canada Agreement (USMCA) can play a key role. “With sound monetary policy\, we know we will support more jobs in this country\,” said Pence. “With the USMCA signed into law\, we will strengthen the economy of North America like never before and by standing strong on our trade and balances and structural issues with China\, we’ll protect American jobs and prosperity for generations to come.” 								\n				\n				\n				\n							\n					\n						\n				\n				\n				\n									 								\n				\n				\n				\n							\n			\n		\n						\n				\n				\n				\n		\n		\n				\n				\n																														\n				\n				\n		\n				\n				\n					Gerry Anderson\n\n\n\n				\n				\n				\n				\n									Presiding Officer 								\n				\n				\n				\n									Executive Chairman \nDTE Energy
URL:https://www.econclub.org/meeting/a-conversation-on-the-u-s-economy-and-the-retirement-challenge-with-tony-james/
LOCATION:Westin Book Cadillac\, 1114 Washington Blvd\, Detroit\, MI\, United States
CATEGORIES:2018
ATTACH;FMTTYPE=image/jpeg:https://www.econclub.org/wp-content/uploads/2024/05/JK32275-scaled.jpg
END:VEVENT
BEGIN:VEVENT
DTSTART;TZID=UTC:20180424T113000
DTEND;TZID=UTC:20180424T170000
DTSTAMP:20260421T213721
CREATED:20240504T110148Z
LAST-MODIFIED:20240513T193605Z
UID:3487-1524569400-1524589200@www.econclub.org
SUMMARY:The Plan for a Stronger Michigan
DESCRIPTION:THE HONORABLE MIKE PENCE\n				\n				\n				\n				\n									Vice President \nUnited States of America \n								\n				\n				\n		\n				\n				\n									U.S. Vice President Mike Pence addressed the Detroit Economic Club in an exclusive members-only meeting yesterday. Pence reflected on his three years in office with President Donald Trump\, while sharing his hopes for the country’s future – and how new trade agreements and the potential passing of the United States-Mexico-Canada Agreement (USMCA) can play a key role. “With sound monetary policy\, we know we will support more jobs in this country\,” said Pence. “With the USMCA signed into law\, we will strengthen the economy of North America like never before and by standing strong on our trade and balances and structural issues with China\, we’ll protect American jobs and prosperity for generations to come.” 								\n				\n				\n				\n							\n					\n						\n				\n				\n				\n									 								\n				\n				\n				\n							\n			\n		\n						\n				\n				\n				\n		\n		\n				\n				\n																														\n				\n				\n		\n				\n				\n					Gerry Anderson\n\n\n\n				\n				\n				\n				\n									Presiding Officer 								\n				\n				\n				\n									Executive Chairman \nDTE Energy
URL:https://www.econclub.org/meeting/the-plan-for-a-stronger-michigan/
LOCATION:The Masonic\, 500 Temple St\, Detroit\, MI\, 48201\, United States
CATEGORIES:2018
ATTACH;FMTTYPE=image/jpeg:https://www.econclub.org/wp-content/uploads/2024/05/DEC-4-24-98.jpg
END:VEVENT
BEGIN:VEVENT
DTSTART;TZID=UTC:20180328T113000
DTEND;TZID=UTC:20180328T170000
DTSTAMP:20260421T213721
CREATED:20240504T111443Z
LAST-MODIFIED:20240513T193728Z
UID:3527-1522236600-1522256400@www.econclub.org
SUMMARY:Navigate the Gig Economy to Fit Your Talent Strategy
DESCRIPTION:THE HONORABLE MIKE PENCE\n				\n				\n				\n				\n									Vice President \nUnited States of America \n								\n				\n				\n		\n				\n				\n									U.S. Vice President Mike Pence addressed the Detroit Economic Club in an exclusive members-only meeting yesterday. Pence reflected on his three years in office with President Donald Trump\, while sharing his hopes for the country’s future – and how new trade agreements and the potential passing of the United States-Mexico-Canada Agreement (USMCA) can play a key role. “With sound monetary policy\, we know we will support more jobs in this country\,” said Pence. “With the USMCA signed into law\, we will strengthen the economy of North America like never before and by standing strong on our trade and balances and structural issues with China\, we’ll protect American jobs and prosperity for generations to come.” 								\n				\n				\n				\n							\n					\n						\n				\n				\n				\n									 								\n				\n				\n				\n							\n			\n		\n						\n				\n				\n				\n		\n		\n				\n				\n																														\n				\n				\n		\n				\n				\n					Gerry Anderson\n\n\n\n				\n				\n				\n				\n									Presiding Officer 								\n				\n				\n				\n									Executive Chairman \nDTE Energy
URL:https://www.econclub.org/meeting/navigate-the-gig-economy-to-fit-your-talent-strategy/
LOCATION:Westin Book Cadillac\, 1114 Washington Blvd\, Detroit\, MI\, United States
CATEGORIES:2018
ATTACH;FMTTYPE=image/jpeg:https://www.econclub.org/wp-content/uploads/2024/05/JK39720w.jpg
END:VEVENT
BEGIN:VEVENT
DTSTART;TZID=UTC:20180213T113000
DTEND;TZID=UTC:20180213T170000
DTSTAMP:20260421T213721
CREATED:20240504T122746Z
LAST-MODIFIED:20240513T195216Z
UID:3554-1518521400-1518541200@www.econclub.org
SUMMARY:The Economy & Workforce: The Reentry Opportunity
DESCRIPTION:THE HONORABLE MIKE PENCE\n				\n				\n				\n				\n									Vice President \nUnited States of America \n								\n				\n				\n		\n				\n				\n									U.S. Vice President Mike Pence addressed the Detroit Economic Club in an exclusive members-only meeting yesterday. Pence reflected on his three years in office with President Donald Trump\, while sharing his hopes for the country’s future – and how new trade agreements and the potential passing of the United States-Mexico-Canada Agreement (USMCA) can play a key role. “With sound monetary policy\, we know we will support more jobs in this country\,” said Pence. “With the USMCA signed into law\, we will strengthen the economy of North America like never before and by standing strong on our trade and balances and structural issues with China\, we’ll protect American jobs and prosperity for generations to come.” 								\n				\n				\n				\n							\n					\n						\n				\n				\n				\n									 								\n				\n				\n				\n							\n			\n		\n						\n				\n				\n				\n		\n		\n				\n				\n																														\n				\n				\n		\n				\n				\n					Gerry Anderson\n\n\n\n				\n				\n				\n				\n									Presiding Officer 								\n				\n				\n				\n									Executive Chairman \nDTE Energy
URL:https://www.econclub.org/meeting/the-economy-workforce-the-reentry-opportunity/
LOCATION:Townsend Hotel\, 100 Townsend St\, Birmingham\, MI\, 48009\, United States
CATEGORIES:2018
ATTACH;FMTTYPE=image/jpeg:https://www.econclub.org/wp-content/uploads/2024/05/DEC_Korzenik_8393-scaled.jpg
END:VEVENT
BEGIN:VEVENT
DTSTART;TZID=UTC:20180205T113000
DTEND;TZID=UTC:20180205T170000
DTSTAMP:20260421T213721
CREATED:20240504T132518Z
LAST-MODIFIED:20240513T195302Z
UID:3590-1517830200-1517850000@www.econclub.org
SUMMARY:Michigan Should Lead the Next Frontier of Innovation
DESCRIPTION:THE HONORABLE MIKE PENCE\n				\n				\n				\n				\n									Vice President \nUnited States of America \n								\n				\n				\n		\n				\n				\n									U.S. Vice President Mike Pence addressed the Detroit Economic Club in an exclusive members-only meeting yesterday. Pence reflected on his three years in office with President Donald Trump\, while sharing his hopes for the country’s future – and how new trade agreements and the potential passing of the United States-Mexico-Canada Agreement (USMCA) can play a key role. “With sound monetary policy\, we know we will support more jobs in this country\,” said Pence. “With the USMCA signed into law\, we will strengthen the economy of North America like never before and by standing strong on our trade and balances and structural issues with China\, we’ll protect American jobs and prosperity for generations to come.” 								\n				\n				\n				\n							\n					\n						\n				\n				\n				\n									 								\n				\n				\n				\n							\n			\n		\n						\n				\n				\n				\n		\n		\n				\n				\n																														\n				\n				\n		\n				\n				\n					Gerry Anderson\n\n\n\n				\n				\n				\n				\n									Presiding Officer 								\n				\n				\n				\n									Executive Chairman \nDTE Energy
URL:https://www.econclub.org/meeting/michigan-should-lead-the-next-frontier-of-innovation/
LOCATION:The Masonic\, 500 Temple St\, Detroit\, MI\, 48201\, United States
CATEGORIES:2018
ATTACH;FMTTYPE=image/jpeg:https://www.econclub.org/wp-content/uploads/2024/05/JKX0853-scaled.jpg
END:VEVENT
BEGIN:VEVENT
DTSTART;TZID=UTC:20180123T113000
DTEND;TZID=UTC:20180123T170000
DTSTAMP:20260421T213722
CREATED:20240504T225638Z
LAST-MODIFIED:20240513T195432Z
UID:3653-1516707000-1516726800@www.econclub.org
SUMMARY:The Big Four
DESCRIPTION:THE HONORABLE MIKE PENCE\n				\n				\n				\n				\n									Vice President \nUnited States of America \n								\n				\n				\n		\n				\n				\n									U.S. Vice President Mike Pence addressed the Detroit Economic Club in an exclusive members-only meeting yesterday. Pence reflected on his three years in office with President Donald Trump\, while sharing his hopes for the country’s future – and how new trade agreements and the potential passing of the United States-Mexico-Canada Agreement (USMCA) can play a key role. “With sound monetary policy\, we know we will support more jobs in this country\,” said Pence. “With the USMCA signed into law\, we will strengthen the economy of North America like never before and by standing strong on our trade and balances and structural issues with China\, we’ll protect American jobs and prosperity for generations to come.” 								\n				\n				\n				\n							\n					\n						\n				\n				\n				\n									 								\n				\n				\n				\n							\n			\n		\n						\n				\n				\n				\n		\n		\n				\n				\n																														\n				\n				\n		\n				\n				\n					Gerry Anderson\n\n\n\n				\n				\n				\n				\n									Presiding Officer 								\n				\n				\n				\n									Executive Chairman \nDTE Energy
URL:https://www.econclub.org/meeting/the-big-four/
LOCATION:Huntington Place\, 1 Washington Blvd\,\, Detroit\, MI 48226\, MI\, 48070\, United States
CATEGORIES:2018
ATTACH;FMTTYPE=image/jpeg:https://www.econclub.org/wp-content/uploads/2024/05/JK32939COPY-1-scaled.jpg
END:VEVENT
END:VCALENDAR