BEGIN:VCALENDAR
VERSION:2.0
PRODID:-//Detroit Economic Club - ECPv6.14.2//NONSGML v1.0//EN
CALSCALE:GREGORIAN
METHOD:PUBLISH
X-ORIGINAL-URL:https://www.econclub.org
X-WR-CALDESC:Events for Detroit Economic Club
REFRESH-INTERVAL;VALUE=DURATION:PT1H
X-Robots-Tag:noindex
X-PUBLISHED-TTL:PT1H
BEGIN:VTIMEZONE
TZID:America/Detroit
BEGIN:DAYLIGHT
TZOFFSETFROM:-0500
TZOFFSETTO:-0400
TZNAME:EDT
DTSTART:20260308T070000
END:DAYLIGHT
BEGIN:STANDARD
TZOFFSETFROM:-0400
TZOFFSETTO:-0500
TZNAME:EST
DTSTART:20261101T060000
END:STANDARD
END:VTIMEZONE
BEGIN:VEVENT
DTSTART;TZID=America/Detroit:20260722T180000
DTEND;TZID=America/Detroit:20260722T210000
DTSTAMP:20260422T013903
CREATED:20251121T182448Z
LAST-MODIFIED:20251121T183943Z
UID:13529-1784743200-1784754000@www.econclub.org
SUMMARY:SAVE THE DATE | 2026 DEC Chair’s Dinner
DESCRIPTION:Dwane Casey				\n				\n				\n				\n									Head CoachDetroit Pistons 								\n				\n				\n		\n				\n				\n																														\n				\n				\n				\n					Troy Weaver				\n				\n				\n				\n									General ManagerDetroit Pistons 								\n				\n				\n		\n				\n				\n							\n			\n		\n						\n				\n				\n				\n									ABOUT THIS MEETINGIt’s always an exciting and hopeful time when our Detroit Pistons begin their new season. Join General Manager Troy Weaver and Head Coach Dwane Casey as they share their thoughts on the upcoming season\, the development of this young roster and their “restoration” process for the team. After the program\, DEC members and guests are invited to mix and mingle while enjoying hors d’oeuvres and adult beverages. 								\n				\n				\n				\n		\n					\n		\n				\n				\n																														\n				\n				\n		\n				\n				\n					Greg Kelser				\n				\n				\n				\n									Moderator 								\n				\n				\n				\n									Television Analyst & Former Pistons PlayerBally Sports Detroit 								\n				\n				\n					\n				\n		\n					\n		\n		\n				\n				\n							\n						\n				\n				\n				\n							\n			\n						\n		\n						\n				\n				\n				\n					PODCAST				\n				\n				\n				\n									\n				\n				\n				\n							\n			\n						\n		\n						\n				\n				\n				\n					FULL MEETING VIDEO				\n				\n				\n				\n							\n					\n						\n				\n				\n				\n							\n			\n						\n		\n						\n				\n				\n				\n							\n			\n			\n				\n			\n			\n				\n			\n			\n				\n			\n			\n				\n			\n			\n				\n			\n			\n				\n			\n			\n				\n			\n			\n				\n			\n			\n				\n			\n			\n				\n			\n			\n				\n			\n			\n				\n			\n			\n				\n			\n			\n				\n			\n			\n				\n			\n			\n				\n			\n			\n				\n			\n			\n				\n			\n			\n				\n			\n			\n				\n			\n			\n				\n			\n			\n				\n			\n			\n				\n			\n			\n				\n			\n			\n				\n			\n			\n				\n			\n			\n				\n			\n			\n				\n			\n			\n				\n			\n		\n		\n						\n				\n				\n				\n					MEETING GALLERY				\n				\n				\n				\n		\n					\n		\n				\n				\n							\n			\n		\n						\n				\n				\n				\n					VENUE				\n				\n				\n				\n							\n			\n		\n						\n				\n				\n				\n					\n				\n				\n	\n	Little Caesars Arena\n	\n	\n\n2645 Woodward Ave\n	\n		\n		Detroit\,\n\n	Michigan\n\n	48201\n\n	United States\n\n\n\n\n\n\n	\n\n\n\n		\n	\n				\n				\n				\n		\n				\n				\n							\n			\n		\n						\n				\n				\n				\n					DETAILS				\n				\n				\n				\n							\n			\n		\n						\n				\n				\n				\n							\n			\n		\n						\n				\n				\n				\n					\n		\n			Thursday\, October 27\, 2022\n\n		\n\n\n	\n				\n				\n				\n				\n					\n		\n		\n\n\n3:30 pm\n\n		\n\n\n\n	\n	  -  \n\n6:30 pm
URL:https://www.econclub.org/meeting/2026-dec-chairs-dinner/
LOCATION:Elevate at One Campus Martius\, 1 Campus Martius Floor 16\, Detroit\, MI\, 48226\, United States
CATEGORIES:Signature Event
ATTACH;FMTTYPE=image/jpeg:https://www.econclub.org/wp-content/uploads/2024/11/chairsdinner-featured.jpg
END:VEVENT
BEGIN:VEVENT
DTSTART;TZID=America/Detroit:20261008T080000
DTEND;TZID=America/Detroit:20261008T170000
DTSTAMP:20260422T013903
CREATED:20251121T180929Z
LAST-MODIFIED:20260410T174654Z
UID:13524-1791446400-1791478800@www.econclub.org
SUMMARY:SAVE THE DATE | 2026 Young Leader Conference
DESCRIPTION:Dwane Casey				\n				\n				\n				\n									Head CoachDetroit Pistons 								\n				\n				\n		\n				\n				\n																														\n				\n				\n				\n					Troy Weaver				\n				\n				\n				\n									General ManagerDetroit Pistons 								\n				\n				\n		\n				\n				\n							\n			\n		\n						\n				\n				\n				\n									ABOUT THIS MEETINGIt’s always an exciting and hopeful time when our Detroit Pistons begin their new season. Join General Manager Troy Weaver and Head Coach Dwane Casey as they share their thoughts on the upcoming season\, the development of this young roster and their “restoration” process for the team. After the program\, DEC members and guests are invited to mix and mingle while enjoying hors d’oeuvres and adult beverages. 								\n				\n				\n				\n		\n					\n		\n				\n				\n																														\n				\n				\n		\n				\n				\n					Greg Kelser				\n				\n				\n				\n									Moderator 								\n				\n				\n				\n									Television Analyst & Former Pistons PlayerBally Sports Detroit 								\n				\n				\n					\n				\n		\n					\n		\n		\n				\n				\n							\n						\n				\n				\n				\n							\n			\n						\n		\n						\n				\n				\n				\n					PODCAST				\n				\n				\n				\n									\n				\n				\n				\n							\n			\n						\n		\n						\n				\n				\n				\n					FULL MEETING VIDEO				\n				\n				\n				\n							\n					\n						\n				\n				\n				\n							\n			\n						\n		\n						\n				\n				\n				\n							\n			\n			\n				\n			\n			\n				\n			\n			\n				\n			\n			\n				\n			\n			\n				\n			\n			\n				\n			\n			\n				\n			\n			\n				\n			\n			\n				\n			\n			\n				\n			\n			\n				\n			\n			\n				\n			\n			\n				\n			\n			\n				\n			\n			\n				\n			\n			\n				\n			\n			\n				\n			\n			\n				\n			\n			\n				\n			\n			\n				\n			\n			\n				\n			\n			\n				\n			\n			\n				\n			\n			\n				\n			\n			\n				\n			\n			\n				\n			\n			\n				\n			\n			\n				\n			\n			\n				\n			\n		\n		\n						\n				\n				\n				\n					MEETING GALLERY				\n				\n				\n				\n		\n					\n		\n				\n				\n							\n			\n		\n						\n				\n				\n				\n					VENUE				\n				\n				\n				\n							\n			\n		\n						\n				\n				\n				\n					\n				\n				\n	\n	Little Caesars Arena\n	\n	\n\n2645 Woodward Ave\n	\n		\n		Detroit\,\n\n	Michigan\n\n	48201\n\n	United States\n\n\n\n\n\n\n	\n\n\n\n		\n	\n				\n				\n				\n		\n				\n				\n							\n			\n		\n						\n				\n				\n				\n					DETAILS				\n				\n				\n				\n							\n			\n		\n						\n				\n				\n				\n							\n			\n		\n						\n				\n				\n				\n					\n		\n			Thursday\, October 27\, 2022\n\n		\n\n\n	\n				\n				\n				\n				\n					\n		\n		\n\n\n3:30 pm\n\n		\n\n\n\n	\n	  -  \n\n6:30 pm
URL:https://www.econclub.org/meeting/2026-young-leader-conference/
LOCATION:MotorCity Casino Hotel\, 2901 Grand River Ave\, Detroit\, MI\, 48201\, United States
CATEGORIES:Signature Event,Young Leader
ATTACH;FMTTYPE=image/jpeg:https://www.econclub.org/wp-content/uploads/2024/11/YLC-featured.jpg
END:VEVENT
END:VCALENDAR