BEGIN:VCALENDAR
VERSION:2.0
PRODID:-//Detroit Economic Club - ECPv6.14.2//NONSGML v1.0//EN
CALSCALE:GREGORIAN
METHOD:PUBLISH
X-ORIGINAL-URL:https://www.econclub.org
X-WR-CALDESC:Events for Detroit Economic Club
REFRESH-INTERVAL;VALUE=DURATION:PT1H
X-Robots-Tag:noindex
X-PUBLISHED-TTL:PT1H
BEGIN:VTIMEZONE
TZID:America/Detroit
BEGIN:DAYLIGHT
TZOFFSETFROM:-0500
TZOFFSETTO:-0400
TZNAME:EDT
DTSTART:20240310T070000
END:DAYLIGHT
BEGIN:STANDARD
TZOFFSETFROM:-0400
TZOFFSETTO:-0500
TZNAME:EST
DTSTART:20241103T060000
END:STANDARD
END:VTIMEZONE
BEGIN:VEVENT
DTSTART;TZID=America/Detroit:20241002T110000
DTEND;TZID=America/Detroit:20241002T133000
DTSTAMP:20260421T161400
CREATED:20240717T011239Z
LAST-MODIFIED:20241106T202415Z
UID:4363-1727866800-1727875800@www.econclub.org
SUMMARY:The Exit Interview
DESCRIPTION:EMAIL TO JOIN WAIT LIST\n					\n					\n				\n								\n				\n				\n				\n					\n	\n		\n\n	\n	Add to calendar	\n		\n	\n\n		\n			\n									\n	Google Calendar\n\n									\n	iCalendar\n\n									\n	Outlook 365\n\n									\n	Outlook Live\n\n							\n		\n\n		\n	\n\n				\n				\n				\n				\n				\n							\n			\n						\n		\n						\n				\n					\n				\n		\n					\n		\n				\n				\n																														\n				\n				\n				\n																														\n				\n				\n		\n				\n				\n					About				\n				\n				\n				\n					EXCLUSIVELY FOR DEC YOUNG LEADER MEMBERS Only				\n				\n				\n				\n									Join fellow Young Leaders and invited guests to cheer on the Detroit Tigers as they face the Los Angeles Angels. Relax in Adirondack-style chairs with a birds-eye view of the field from the Right Field Balcony area located on Comerica Landing. You’ll have quick access to nearby food and beverage options. Food and beverages are not included with your ticket. Ticket and Refund Information: Sunday\, April 26\, at 11:59 p.m. is the FINAL day to purchase tickets or request a refund. No refunds will be made following that date and time. Digital tickets will be sent to ticket holders following this date. 								\n				\n				\n				\n					AGENDA				\n				\n				\n				\n									5:00 p.m. Gates Open & Networking 6:40 p.m. First Pitch 9:30 p.m. Adjourn 								\n				\n				\n				\n					TICKETS				\n				\n				\n				\n									$45 – DEC Young Leader Members & Guests Sponsor codes are not applicable. 								\n				\n		\n				\n				\n							\n			\n						\n		\n						\n				\n				\n				\n									Want to learn about YL member benefits? Click here to explore a membership! 								\n				\n				\n				\n					\n				\n		\n					\n		\n					\n		\n				\n				\n							\n			\n		\n						\n				\n				\n				\n					VENUE				\n				\n				\n				\n							\n			\n		\n						\n				\n				\n				\n					\n				\n				\n	\n	Comerica Park\n	\n	\n\n2100 Woodward Ave\n	\n		\n		Detroit\,\n\n\n	48201\n\n	United States\n\n\n\n\n\n\n	\n\n\n\n		\n	\n				\n				\n				\n		\n				\n				\n							\n			\n		\n						\n				\n				\n				\n					DETAILS				\n				\n				\n				\n							\n			\n		\n						\n				\n				\n				\n							\n			\n		\n						\n				\n				\n				\n					\n		\n			Wednesday\, May 27\, 2026\n\n		\n\n\n	\n				\n				\n				\n				\n					\n		\n		\n\n\n5:00 pm\n\n		\n\n\n\n	\n	  -  \n\n9:30 pm
URL:https://www.econclub.org/meeting/the-exit-interview-senator-stabenow/
LOCATION:The Masonic\, 500 Temple St\, Detroit\, MI\, 48201\, United States
CATEGORIES:Meeting
ATTACH;FMTTYPE=image/jpeg:https://www.econclub.org/wp-content/uploads/2024/10/K3_1142.jpg
END:VEVENT
BEGIN:VEVENT
DTSTART;TZID=America/Detroit:20241007T110000
DTEND;TZID=America/Detroit:20241007T133000
DTSTAMP:20260421T161400
CREATED:20240912T143534Z
LAST-MODIFIED:20241106T202427Z
UID:5156-1728298800-1728307800@www.econclub.org
SUMMARY:Small Acts of Courage: A Legacy of Endurance and the Fight for Democracy
DESCRIPTION:EMAIL TO JOIN WAIT LIST\n					\n					\n				\n								\n				\n				\n				\n					\n	\n		\n\n	\n	Add to calendar	\n		\n	\n\n		\n			\n									\n	Google Calendar\n\n									\n	iCalendar\n\n									\n	Outlook 365\n\n									\n	Outlook Live\n\n							\n		\n\n		\n	\n\n				\n				\n				\n				\n				\n							\n			\n						\n		\n						\n				\n					\n				\n		\n					\n		\n				\n				\n																														\n				\n				\n				\n																														\n				\n				\n		\n				\n				\n					About				\n				\n				\n				\n					EXCLUSIVELY FOR DEC YOUNG LEADER MEMBERS Only				\n				\n				\n				\n									Join fellow Young Leaders and invited guests to cheer on the Detroit Tigers as they face the Los Angeles Angels. Relax in Adirondack-style chairs with a birds-eye view of the field from the Right Field Balcony area located on Comerica Landing. You’ll have quick access to nearby food and beverage options. Food and beverages are not included with your ticket. Ticket and Refund Information: Sunday\, April 26\, at 11:59 p.m. is the FINAL day to purchase tickets or request a refund. No refunds will be made following that date and time. Digital tickets will be sent to ticket holders following this date. 								\n				\n				\n				\n					AGENDA				\n				\n				\n				\n									5:00 p.m. Gates Open & Networking 6:40 p.m. First Pitch 9:30 p.m. Adjourn 								\n				\n				\n				\n					TICKETS				\n				\n				\n				\n									$45 – DEC Young Leader Members & Guests Sponsor codes are not applicable. 								\n				\n		\n				\n				\n							\n			\n						\n		\n						\n				\n				\n				\n									Want to learn about YL member benefits? Click here to explore a membership! 								\n				\n				\n				\n					\n				\n		\n					\n		\n					\n		\n				\n				\n							\n			\n		\n						\n				\n				\n				\n					VENUE				\n				\n				\n				\n							\n			\n		\n						\n				\n				\n				\n					\n				\n				\n	\n	Comerica Park\n	\n	\n\n2100 Woodward Ave\n	\n		\n		Detroit\,\n\n\n	48201\n\n	United States\n\n\n\n\n\n\n	\n\n\n\n		\n	\n				\n				\n				\n		\n				\n				\n							\n			\n		\n						\n				\n				\n				\n					DETAILS				\n				\n				\n				\n							\n			\n		\n						\n				\n				\n				\n							\n			\n		\n						\n				\n				\n				\n					\n		\n			Wednesday\, May 27\, 2026\n\n		\n\n\n	\n				\n				\n				\n				\n					\n		\n		\n\n\n5:00 pm\n\n		\n\n\n\n	\n	  -  \n\n9:30 pm
URL:https://www.econclub.org/meeting/small-acts-of-courage-a-legacy-of-endurance-and-the-fight-for-democracy/
LOCATION:MotorCity Casino Hotel\, 2901 Grand River Ave\, Detroit\, MI\, 48201\, United States
CATEGORIES:Meeting
ATTACH;FMTTYPE=image/jpeg:https://www.econclub.org/wp-content/uploads/2024/10/K3_1597.jpg
END:VEVENT
BEGIN:VEVENT
DTSTART;TZID=America/Detroit:20241008T160000
DTEND;TZID=America/Detroit:20241008T180000
DTSTAMP:20260421T161400
CREATED:20240717T174053Z
LAST-MODIFIED:20241114T153257Z
UID:4382-1728403200-1728410400@www.econclub.org
SUMMARY:YL CEO SERIES: David C. Dauch
DESCRIPTION:EMAIL TO JOIN WAIT LIST\n					\n					\n				\n								\n				\n				\n				\n					\n	\n		\n\n	\n	Add to calendar	\n		\n	\n\n		\n			\n									\n	Google Calendar\n\n									\n	iCalendar\n\n									\n	Outlook 365\n\n									\n	Outlook Live\n\n							\n		\n\n		\n	\n\n				\n				\n				\n				\n				\n							\n			\n						\n		\n						\n				\n					\n				\n		\n					\n		\n				\n				\n																														\n				\n				\n				\n																														\n				\n				\n		\n				\n				\n					About				\n				\n				\n				\n					EXCLUSIVELY FOR DEC YOUNG LEADER MEMBERS Only				\n				\n				\n				\n									Join fellow Young Leaders and invited guests to cheer on the Detroit Tigers as they face the Los Angeles Angels. Relax in Adirondack-style chairs with a birds-eye view of the field from the Right Field Balcony area located on Comerica Landing. You’ll have quick access to nearby food and beverage options. Food and beverages are not included with your ticket. Ticket and Refund Information: Sunday\, April 26\, at 11:59 p.m. is the FINAL day to purchase tickets or request a refund. No refunds will be made following that date and time. Digital tickets will be sent to ticket holders following this date. 								\n				\n				\n				\n					AGENDA				\n				\n				\n				\n									5:00 p.m. Gates Open & Networking 6:40 p.m. First Pitch 9:30 p.m. Adjourn 								\n				\n				\n				\n					TICKETS				\n				\n				\n				\n									$45 – DEC Young Leader Members & Guests Sponsor codes are not applicable. 								\n				\n		\n				\n				\n							\n			\n						\n		\n						\n				\n				\n				\n									Want to learn about YL member benefits? Click here to explore a membership! 								\n				\n				\n				\n					\n				\n		\n					\n		\n					\n		\n				\n				\n							\n			\n		\n						\n				\n				\n				\n					VENUE				\n				\n				\n				\n							\n			\n		\n						\n				\n				\n				\n					\n				\n				\n	\n	Comerica Park\n	\n	\n\n2100 Woodward Ave\n	\n		\n		Detroit\,\n\n\n	48201\n\n	United States\n\n\n\n\n\n\n	\n\n\n\n		\n	\n				\n				\n				\n		\n				\n				\n							\n			\n		\n						\n				\n				\n				\n					DETAILS				\n				\n				\n				\n							\n			\n		\n						\n				\n				\n				\n							\n			\n		\n						\n				\n				\n				\n					\n		\n			Wednesday\, May 27\, 2026\n\n		\n\n\n	\n				\n				\n				\n				\n					\n		\n		\n\n\n5:00 pm\n\n		\n\n\n\n	\n	  -  \n\n9:30 pm
URL:https://www.econclub.org/meeting/yl-ceo-series-david-c-dauch/
LOCATION:AAM World HQ\, One Dauch Drive\, Detroit\, MI\, 48211\, United States
CATEGORIES:Young Leader
ATTACH;FMTTYPE=image/jpeg:https://www.econclub.org/wp-content/uploads/2024/10/K3_1971.jpg
END:VEVENT
BEGIN:VEVENT
DTSTART;TZID=America/Detroit:20241010T103000
DTEND;TZID=America/Detroit:20241010T134500
DTSTAMP:20260421T161401
CREATED:20241002T173008Z
LAST-MODIFIED:20241106T202449Z
UID:5543-1728556200-1728567900@www.econclub.org
SUMMARY:DEC Presents Special Guest Speaker: President Donald J. Trump
DESCRIPTION:EMAIL TO JOIN WAIT LIST\n					\n					\n				\n								\n				\n				\n				\n					\n	\n		\n\n	\n	Add to calendar	\n		\n	\n\n		\n			\n									\n	Google Calendar\n\n									\n	iCalendar\n\n									\n	Outlook 365\n\n									\n	Outlook Live\n\n							\n		\n\n		\n	\n\n				\n				\n				\n				\n				\n							\n			\n						\n		\n						\n				\n					\n				\n		\n					\n		\n				\n				\n																														\n				\n				\n				\n																														\n				\n				\n		\n				\n				\n					About				\n				\n				\n				\n					EXCLUSIVELY FOR DEC YOUNG LEADER MEMBERS Only				\n				\n				\n				\n									Join fellow Young Leaders and invited guests to cheer on the Detroit Tigers as they face the Los Angeles Angels. Relax in Adirondack-style chairs with a birds-eye view of the field from the Right Field Balcony area located on Comerica Landing. You’ll have quick access to nearby food and beverage options. Food and beverages are not included with your ticket. Ticket and Refund Information: Sunday\, April 26\, at 11:59 p.m. is the FINAL day to purchase tickets or request a refund. No refunds will be made following that date and time. Digital tickets will be sent to ticket holders following this date. 								\n				\n				\n				\n					AGENDA				\n				\n				\n				\n									5:00 p.m. Gates Open & Networking 6:40 p.m. First Pitch 9:30 p.m. Adjourn 								\n				\n				\n				\n					TICKETS				\n				\n				\n				\n									$45 – DEC Young Leader Members & Guests Sponsor codes are not applicable. 								\n				\n		\n				\n				\n							\n			\n						\n		\n						\n				\n				\n				\n									Want to learn about YL member benefits? Click here to explore a membership! 								\n				\n				\n				\n					\n				\n		\n					\n		\n					\n		\n				\n				\n							\n			\n		\n						\n				\n				\n				\n					VENUE				\n				\n				\n				\n							\n			\n		\n						\n				\n				\n				\n					\n				\n				\n	\n	Comerica Park\n	\n	\n\n2100 Woodward Ave\n	\n		\n		Detroit\,\n\n\n	48201\n\n	United States\n\n\n\n\n\n\n	\n\n\n\n		\n	\n				\n				\n				\n		\n				\n				\n							\n			\n		\n						\n				\n				\n				\n					DETAILS				\n				\n				\n				\n							\n			\n		\n						\n				\n				\n				\n							\n			\n		\n						\n				\n				\n				\n					\n		\n			Wednesday\, May 27\, 2026\n\n		\n\n\n	\n				\n				\n				\n				\n					\n		\n		\n\n\n5:00 pm\n\n		\n\n\n\n	\n	  -  \n\n9:30 pm
URL:https://www.econclub.org/meeting/dec-presents-special-guest-speaker-president-donald-j-trump/
LOCATION:MotorCity Casino Hotel\, 2901 Grand River Ave\, Detroit\, MI\, 48201\, United States
CATEGORIES:Meeting
ATTACH;FMTTYPE=image/jpeg:https://www.econclub.org/wp-content/uploads/2024/10/K5_2143.jpg
END:VEVENT
BEGIN:VEVENT
DTSTART;TZID=America/Detroit:20241015T110000
DTEND;TZID=America/Detroit:20241015T133000
DTSTAMP:20260421T161401
CREATED:20240820T190534Z
LAST-MODIFIED:20241114T143437Z
UID:4992-1728990000-1728999000@www.econclub.org
SUMMARY:Michigan’s Competitive Advantage: Harnessing the Power of the University Research Corridor
DESCRIPTION:EMAIL TO JOIN WAIT LIST\n					\n					\n				\n								\n				\n				\n				\n					\n	\n		\n\n	\n	Add to calendar	\n		\n	\n\n		\n			\n									\n	Google Calendar\n\n									\n	iCalendar\n\n									\n	Outlook 365\n\n									\n	Outlook Live\n\n							\n		\n\n		\n	\n\n				\n				\n				\n				\n				\n							\n			\n						\n		\n						\n				\n					\n				\n		\n					\n		\n				\n				\n																														\n				\n				\n				\n																														\n				\n				\n		\n				\n				\n					About				\n				\n				\n				\n					EXCLUSIVELY FOR DEC YOUNG LEADER MEMBERS Only				\n				\n				\n				\n									Join fellow Young Leaders and invited guests to cheer on the Detroit Tigers as they face the Los Angeles Angels. Relax in Adirondack-style chairs with a birds-eye view of the field from the Right Field Balcony area located on Comerica Landing. You’ll have quick access to nearby food and beverage options. Food and beverages are not included with your ticket. Ticket and Refund Information: Sunday\, April 26\, at 11:59 p.m. is the FINAL day to purchase tickets or request a refund. No refunds will be made following that date and time. Digital tickets will be sent to ticket holders following this date. 								\n				\n				\n				\n					AGENDA				\n				\n				\n				\n									5:00 p.m. Gates Open & Networking 6:40 p.m. First Pitch 9:30 p.m. Adjourn 								\n				\n				\n				\n					TICKETS				\n				\n				\n				\n									$45 – DEC Young Leader Members & Guests Sponsor codes are not applicable. 								\n				\n		\n				\n				\n							\n			\n						\n		\n						\n				\n				\n				\n									Want to learn about YL member benefits? Click here to explore a membership! 								\n				\n				\n				\n					\n				\n		\n					\n		\n					\n		\n				\n				\n							\n			\n		\n						\n				\n				\n				\n					VENUE				\n				\n				\n				\n							\n			\n		\n						\n				\n				\n				\n					\n				\n				\n	\n	Comerica Park\n	\n	\n\n2100 Woodward Ave\n	\n		\n		Detroit\,\n\n\n	48201\n\n	United States\n\n\n\n\n\n\n	\n\n\n\n		\n	\n				\n				\n				\n		\n				\n				\n							\n			\n		\n						\n				\n				\n				\n					DETAILS				\n				\n				\n				\n							\n			\n		\n						\n				\n				\n				\n							\n			\n		\n						\n				\n				\n				\n					\n		\n			Wednesday\, May 27\, 2026\n\n		\n\n\n	\n				\n				\n				\n				\n					\n		\n		\n\n\n5:00 pm\n\n		\n\n\n\n	\n	  -  \n\n9:30 pm
URL:https://www.econclub.org/meeting/michigans-competitive-advantage-harnessing-the-power-of-the-university-research-corridor/
LOCATION:The Masonic\, 500 Temple St\, Detroit\, MI\, 48201\, United States
CATEGORIES:Meeting
ATTACH;FMTTYPE=image/jpeg:https://www.econclub.org/wp-content/uploads/2024/08/2486crop.jpg
END:VEVENT
BEGIN:VEVENT
DTSTART;TZID=America/Detroit:20241022T110000
DTEND;TZID=America/Detroit:20241022T140000
DTSTAMP:20260421T161401
CREATED:20241004T132041Z
LAST-MODIFIED:20241106T202533Z
UID:5567-1729594800-1729605600@www.econclub.org
SUMMARY:A Conversation with Liz Cheney and Jonathan Karl
DESCRIPTION:EMAIL TO JOIN WAIT LIST\n					\n					\n				\n								\n				\n				\n				\n					\n	\n		\n\n	\n	Add to calendar	\n		\n	\n\n		\n			\n									\n	Google Calendar\n\n									\n	iCalendar\n\n									\n	Outlook 365\n\n									\n	Outlook Live\n\n							\n		\n\n		\n	\n\n				\n				\n				\n				\n				\n							\n			\n						\n		\n						\n				\n					\n				\n		\n					\n		\n				\n				\n																														\n				\n				\n				\n																														\n				\n				\n		\n				\n				\n					About				\n				\n				\n				\n					EXCLUSIVELY FOR DEC YOUNG LEADER MEMBERS Only				\n				\n				\n				\n									Join fellow Young Leaders and invited guests to cheer on the Detroit Tigers as they face the Los Angeles Angels. Relax in Adirondack-style chairs with a birds-eye view of the field from the Right Field Balcony area located on Comerica Landing. You’ll have quick access to nearby food and beverage options. Food and beverages are not included with your ticket. Ticket and Refund Information: Sunday\, April 26\, at 11:59 p.m. is the FINAL day to purchase tickets or request a refund. No refunds will be made following that date and time. Digital tickets will be sent to ticket holders following this date. 								\n				\n				\n				\n					AGENDA				\n				\n				\n				\n									5:00 p.m. Gates Open & Networking 6:40 p.m. First Pitch 9:30 p.m. Adjourn 								\n				\n				\n				\n					TICKETS				\n				\n				\n				\n									$45 – DEC Young Leader Members & Guests Sponsor codes are not applicable. 								\n				\n		\n				\n				\n							\n			\n						\n		\n						\n				\n				\n				\n									Want to learn about YL member benefits? Click here to explore a membership! 								\n				\n				\n				\n					\n				\n		\n					\n		\n					\n		\n				\n				\n							\n			\n		\n						\n				\n				\n				\n					VENUE				\n				\n				\n				\n							\n			\n		\n						\n				\n				\n				\n					\n				\n				\n	\n	Comerica Park\n	\n	\n\n2100 Woodward Ave\n	\n		\n		Detroit\,\n\n\n	48201\n\n	United States\n\n\n\n\n\n\n	\n\n\n\n		\n	\n				\n				\n				\n		\n				\n				\n							\n			\n		\n						\n				\n				\n				\n					DETAILS				\n				\n				\n				\n							\n			\n		\n						\n				\n				\n				\n							\n			\n		\n						\n				\n				\n				\n					\n		\n			Wednesday\, May 27\, 2026\n\n		\n\n\n	\n				\n				\n				\n				\n					\n		\n		\n\n\n5:00 pm\n\n		\n\n\n\n	\n	  -  \n\n9:30 pm
URL:https://www.econclub.org/meeting/a-conversation-with-liz-cheney-and-jonathan-karl/
LOCATION:MotorCity Casino Hotel\, 2901 Grand River Ave\, Detroit\, MI\, 48201\, United States
CATEGORIES:Meeting
ATTACH;FMTTYPE=image/jpeg:https://www.econclub.org/wp-content/uploads/2024/10/2024_10_18_DEC_Cheney_1469-scaled.jpg
END:VEVENT
BEGIN:VEVENT
DTSTART;TZID=America/Detroit:20241029T080000
DTEND;TZID=America/Detroit:20241029T093000
DTSTAMP:20260421T161401
CREATED:20240904T160454Z
LAST-MODIFIED:20240904T160615Z
UID:5195-1730188800-1730194200@www.econclub.org
SUMMARY:DEC Peer Group - Business Development
DESCRIPTION:EMAIL TO JOIN WAIT LIST\n					\n					\n				\n								\n				\n				\n				\n					\n	\n		\n\n	\n	Add to calendar	\n		\n	\n\n		\n			\n									\n	Google Calendar\n\n									\n	iCalendar\n\n									\n	Outlook 365\n\n									\n	Outlook Live\n\n							\n		\n\n		\n	\n\n				\n				\n				\n				\n				\n							\n			\n						\n		\n						\n				\n					\n				\n		\n					\n		\n				\n				\n																														\n				\n				\n				\n																														\n				\n				\n		\n				\n				\n					About				\n				\n				\n				\n					EXCLUSIVELY FOR DEC YOUNG LEADER MEMBERS Only				\n				\n				\n				\n									Join fellow Young Leaders and invited guests to cheer on the Detroit Tigers as they face the Los Angeles Angels. Relax in Adirondack-style chairs with a birds-eye view of the field from the Right Field Balcony area located on Comerica Landing. You’ll have quick access to nearby food and beverage options. Food and beverages are not included with your ticket. Ticket and Refund Information: Sunday\, April 26\, at 11:59 p.m. is the FINAL day to purchase tickets or request a refund. No refunds will be made following that date and time. Digital tickets will be sent to ticket holders following this date. 								\n				\n				\n				\n					AGENDA				\n				\n				\n				\n									5:00 p.m. Gates Open & Networking 6:40 p.m. First Pitch 9:30 p.m. Adjourn 								\n				\n				\n				\n					TICKETS				\n				\n				\n				\n									$45 – DEC Young Leader Members & Guests Sponsor codes are not applicable. 								\n				\n		\n				\n				\n							\n			\n						\n		\n						\n				\n				\n				\n									Want to learn about YL member benefits? Click here to explore a membership! 								\n				\n				\n				\n					\n				\n		\n					\n		\n					\n		\n				\n				\n							\n			\n		\n						\n				\n				\n				\n					VENUE				\n				\n				\n				\n							\n			\n		\n						\n				\n				\n				\n					\n				\n				\n	\n	Comerica Park\n	\n	\n\n2100 Woodward Ave\n	\n		\n		Detroit\,\n\n\n	48201\n\n	United States\n\n\n\n\n\n\n	\n\n\n\n		\n	\n				\n				\n				\n		\n				\n				\n							\n			\n		\n						\n				\n				\n				\n					DETAILS				\n				\n				\n				\n							\n			\n		\n						\n				\n				\n				\n							\n			\n		\n						\n				\n				\n				\n					\n		\n			Wednesday\, May 27\, 2026\n\n		\n\n\n	\n				\n				\n				\n				\n					\n		\n		\n\n\n5:00 pm\n\n		\n\n\n\n	\n	  -  \n\n9:30 pm
URL:https://www.econclub.org/meeting/dec-peer-group-business-development-102924/
LOCATION:WTW – Southfield\, 26555 Evergreen Rd\, Southfield\, MI\, 48076\, United States
CATEGORIES:Member Peer Group
ATTACH;FMTTYPE=image/jpeg:https://www.econclub.org/wp-content/uploads/2024/08/Business-Development-Peer-Group_2024_featured.jpg
END:VEVENT
END:VCALENDAR